BEGIN:VCALENDAR
VERSION:2.0
PRODID:-//wp-events-plugin.com//7.2.3.1//EN
BEGIN:VEVENT
UID:6@werkatelier-palazzo.ch
DTSTART:20260510T110000Z
DTEND:20260510T160000Z
DTSTAMP:20260419T201342Z
URL:https://werkatelier-palazzo.ch/agenda/tag-der-offenen-tuer-2/
SUMMARY:Tag der offenen Tür
DESCRIPTION:Im Werkatelier Palazzo steht das künstlerische Gestalten mit d
 en Händen im Zentrum. Die therapeutischen und präventiven Angebote diene
 n der Förderung von Resilienz\, Selbstwirksamkeit und Lebensfreude der Be
 sucher*innen jeden Alters. 
ATTACH;FMTTYPE=image/jpeg:https://werkatelier-palazzo.ch/wp-content/upload
 s/2024/10/Palazzo-Eingang-scaled.jpg
CATEGORIES:Tag der offenen Tür
LOCATION:Werkatelier Palazzo\, Poststrasse 2 / Eingang beim Kino Sputnik\, 
 2. Etage\, Liestal\, Baselland\, 4410\, Schweiz
X-APPLE-STRUCTURED-LOCATION;VALUE=URI;X-ADDRESS=Poststrasse 2 / Eingang bei
 m Kino Sputnik\, 2. Etage\, Liestal\, Baselland\, 4410\, Schweiz;X-APPLE-R
 ADIUS=100;X-TITLE=Werkatelier Palazzo:geo:0,0
END:VEVENT
END:VCALENDAR