BEGIN:VCALENDAR
VERSION:2.0
PRODID:-//wp-events-plugin.com//7.2.3.1//EN
BEGIN:VEVENT
UID:9@werkatelier-palazzo.ch
DTSTART:20260425T130000Z
DTEND:20260425T170000Z
DTSTAMP:20260416T182204Z
URL:https://werkatelier-palazzo.ch/agenda/paint-your-style-2/
SUMMARY:Paint your Style
DESCRIPTION:Wenn sich das Atelier in ein inspirierendes Malstudio verwandel
 t…\n\n…Keramik bemalen nach Lust und Laune im gemütlichen Werkatelier
 -Palazzo.\nPlatzreservation / mehr Infos
ATTACH;FMTTYPE=image/jpeg:https://werkatelier-palazzo.ch/wp-content/upload
 s/2025/09/IMG_0813-scaled.jpeg
CATEGORIES:Paint your Style
LOCATION:Werkatelier Palazzo\, Poststrasse 2 / Eingang beim Kino Sputnik\, 
 2. Etage\, Liestal\, Baselland\, 4410\, Schweiz
X-APPLE-STRUCTURED-LOCATION;VALUE=URI;X-ADDRESS=Poststrasse 2 / Eingang bei
 m Kino Sputnik\, 2. Etage\, Liestal\, Baselland\, 4410\, Schweiz;X-APPLE-R
 ADIUS=100;X-TITLE=Werkatelier Palazzo:geo:0,0
END:VEVENT
END:VCALENDAR